BEGIN:VCALENDAR
VERSION:2.0
PRODID:-//www.arcnj.org//NONSGML kigkonsult.se iCalcreator 2.30.10//
CALSCALE:GREGORIAN
METHOD:PUBLISH
UID:39f00278-f6a6-4d69-9d36-cdbf1d4bc583
X-WR-CALDESC:
X-WR-RELCALID:3aa01b6508c05fcdbf8ba4f90e659ebc
X-WR-TIMEZONE:America/New_York
BEGIN:VTIMEZONE
TZID:America/New_York
BEGIN:STANDARD
TZNAME:EST
DTSTART:20251102T020000
TZOFFSETFROM:-0400
TZOFFSETTO:-0500
RDATE:20261101T020000
END:STANDARD
BEGIN:DAYLIGHT
TZNAME:EDT
DTSTART:20250309T020000
TZOFFSETFROM:-0500
TZOFFSETTO:-0400
RDATE:20260308T020000
RDATE:20270314T020000
END:DAYLIGHT
END:VTIMEZONE
BEGIN:VEVENT
UID:a96e0258-6f2e-48d9-84c1-6ac9c9f05820
DTSTAMP:20260420T010202Z
DESCRIPTION:
DTSTART;TZID=America/New_York:20260113T190000
DTEND;TZID=America/New_York:20260113T200000
LOCATION:https://docs.google.com/forms/d/e/1FAIpQLSdDqsFUI8SNkDvWI0rKwOIgDH
 bcdWSqOX1yOiUjGIHNL_KrNw/viewform?pli=1
SUMMARY:Youth Advisory Board Meeting- 18-21 Year Olds
END:VEVENT
END:VCALENDAR
