BEGIN:VCALENDAR
VERSION:2.0
PRODID:-//www.arcnj.org//NONSGML kigkonsult.se iCalcreator 2.30.10//
CALSCALE:GREGORIAN
METHOD:PUBLISH
UID:e0ea6305-8a62-47d9-aeaf-87db6c762baa
X-WR-CALDESC:In this fun\, relaxing and interactive session\, you’ll discov
 er how connecting with nature can boost your health\, reduce stress and cu
 ltivate a deeper sense of happiness and belonging. Time together will incl
 ude: nature inspired health tips\, mindful breathing\, sensory meditation 
 and a journey into the sights\, sounds and wonders of the natural world.  
 \n\nSky Schenkel is a certified nature and forest therapy guide and the ow
 ner of Sky Hawk Walks\, a company whose mission is to connect people from 
 all walks of life to the healing and wondrous power of nature. Sky has ove
 r 20 years of experience working with individuals with disabilities in a v
 ariety of social service roles. She is also a yoga teacher\, photographer\
 , and artist. To learn more\, visit her website at: www.skyhawkwalks.com
X-WR-RELCALID:a51b867bd2978fcae62a8666763b1c53
X-WR-TIMEZONE:America/New_York
BEGIN:VTIMEZONE
TZID:America/New_York
BEGIN:STANDARD
TZNAME:EST
DTSTART:20251102T020000
TZOFFSETFROM:-0400
TZOFFSETTO:-0500
RDATE:20261101T020000
END:STANDARD
BEGIN:DAYLIGHT
TZNAME:EDT
DTSTART:20250309T020000
TZOFFSETFROM:-0500
TZOFFSETTO:-0400
RDATE:20260308T020000
RDATE:20270314T020000
END:DAYLIGHT
END:VTIMEZONE
BEGIN:VEVENT
UID:a6d3e6ef-c998-4307-bfca-11e0688f8f80
DTSTAMP:20260420T010202Z
DESCRIPTION:In this fun\, relaxing and interactive session\, you’ll discove
 r how connecting with nature can boost your health\, reduce stress and cul
 tivate a deeper sense of happiness and belonging. Time together will inclu
 de: nature inspired health tips\, mindful breathing\, sensory meditation a
 nd a journey into the sights\, sounds and wonders of the natural world.  
 \n\nSky Schenkel is a certified nature and forest therapy guide and the ow
 ner of Sky Hawk Walks\, a company whose mission is to connect people from 
 all walks of life to the healing and wondrous power of nature. Sky has ove
 r 20 years of experience working with individuals with disabilities in a v
 ariety of social service roles. She is also a yoga teacher\, photographer\
 , and artist. To learn more\, visit her website at: www.skyhawkwalks.com
DTSTART;TZID=America/New_York:20260107T110000
DTEND;TZID=America/New_York:20260107T120000
LOCATION:https://us06web.zoom.us/meeting/register/HBNXT6d9ReONNJFm6rwxBg#/r
 egistration
SUMMARY:Nature Connection for Health and Happiness
END:VEVENT
END:VCALENDAR
