BEGIN:VCALENDAR
VERSION:2.0
PRODID:-//www.arcnj.org//NONSGML kigkonsult.se iCalcreator 2.30.10//
CALSCALE:GREGORIAN
METHOD:PUBLISH
UID:3a773b51-8806-4541-a48b-19fc524f4c0f
X-WR-CALDESC:**This is a recording of a previous webinar. Experience it for
  the first time or rewatch it to gain a better understanding of the topic.
  The question box will be open and we will respond to any questions 24 hou
 rs after the event. \n\nPresented by Ashley Ritchey\, this webinar will co
 ver day-to-day situations where you can practice self-advocacy. It will in
 clude many case examples to illustrate different ways to advocate in daily
  life with parents\, staff\, friends\, partners\, co-workers. Listeners wi
 ll be able to offer their advice and discover new ways of handling familia
 r situations.
X-WR-RELCALID:c9459e471ff5f5b3dbccd10f670d84fa
X-WR-TIMEZONE:America/New_York
BEGIN:VTIMEZONE
TZID:America/New_York
BEGIN:STANDARD
TZNAME:EST
DTSTART:20251102T020000
TZOFFSETFROM:-0400
TZOFFSETTO:-0500
RDATE:20261101T020000
END:STANDARD
BEGIN:DAYLIGHT
TZNAME:EDT
DTSTART:20250309T020000
TZOFFSETFROM:-0500
TZOFFSETTO:-0400
RDATE:20260308T020000
RDATE:20270314T020000
END:DAYLIGHT
END:VTIMEZONE
BEGIN:VEVENT
UID:4cd4085d-348b-4b3c-807a-9fa71fda4a13
DTSTAMP:20260420T023627Z
DESCRIPTION:**This is a recording of a previous webinar. Experience it for 
 the first time or rewatch it to gain a better understanding of the topic. 
 The question box will be open and we will respond to any questions 24 hour
 s after the event. \n\nPresented by Ashley Ritchey\, this webinar will cov
 er day-to-day situations where you can practice self-advocacy. It will inc
 lude many case examples to illustrate different ways to advocate in daily 
 life with parents\, staff\, friends\, partners\, co-workers. Listeners wil
 l be able to offer their advice and discover new ways of handling familiar
  situations.
DTSTART;TZID=America/New_York:20251230T140000
DTEND;TZID=America/New_York:20251230T150000
LOCATION:https://us06web.zoom.us/webinar/register/WN_R4wjFGxpSRmylTnShgqyjw
 #/registration
SUMMARY:REPLAY: So Relatable! Everyday Self-Advocacy
END:VEVENT
END:VCALENDAR
