BEGIN:VCALENDAR
VERSION:2.0
PRODID:-//www.arcnj.org//NONSGML kigkonsult.se iCalcreator 2.30.10//
CALSCALE:GREGORIAN
METHOD:PUBLISH
UID:6e981271-1134-48a0-9bf1-2b6332366a59
X-WR-CALDESC:**This is a recording of a previous webinar. Experience it for
  the first time or rewatch it to gain a better understanding of the topic.
  The question box will be open and we will respond to any questions 24 hou
 rs after the event.\n\nPresented by Erin Smithers\, this webinar will disc
 uss mental health first aid and support. This will include warning signs a
 nd symptoms you may see as well as how to help someone who needs immediate
  mental health support. Tips to help calm yourself when anxiety and stress
  get to be too high will also be included along with resources on who to r
 each out to for further mental health support.
X-WR-RELCALID:5909c062a948a55efb798f1ae1134485
X-WR-TIMEZONE:America/New_York
BEGIN:VTIMEZONE
TZID:America/New_York
BEGIN:STANDARD
TZNAME:EST
DTSTART:20251102T020000
TZOFFSETFROM:-0400
TZOFFSETTO:-0500
RDATE:20261101T020000
END:STANDARD
BEGIN:DAYLIGHT
TZNAME:EDT
DTSTART:20250309T020000
TZOFFSETFROM:-0500
TZOFFSETTO:-0400
RDATE:20260308T020000
RDATE:20270314T020000
END:DAYLIGHT
END:VTIMEZONE
BEGIN:VEVENT
UID:6c6bfc92-1269-4b09-a471-e176315224a7
DTSTAMP:20260420T023926Z
DESCRIPTION:**This is a recording of a previous webinar. Experience it for 
 the first time or rewatch it to gain a better understanding of the topic. 
 The question box will be open and we will respond to any questions 24 hour
 s after the event.\n\nPresented by Erin Smithers\, this webinar will discu
 ss mental health first aid and support. This will include warning signs an
 d symptoms you may see as well as how to help someone who needs immediate 
 mental health support. Tips to help calm yourself when anxiety and stress 
 get to be too high will also be included along with resources on who to re
 ach out to for further mental health support.
DTSTART;TZID=America/New_York:20251223T140000
DTEND;TZID=America/New_York:20251223T150000
LOCATION:https://us06web.zoom.us/webinar/register/WN_RkwZgPVGRVWDw-vrBKFtUw
 #/registration
SUMMARY:REPLAY: Can I Help You? Mental Health First Aid
END:VEVENT
END:VCALENDAR
