BEGIN:VCALENDAR
VERSION:2.0
PRODID:-//www.arcnj.org//NONSGML kigkonsult.se iCalcreator 2.30.10//
CALSCALE:GREGORIAN
METHOD:PUBLISH
UID:67997645-ea8e-4e38-b1e0-908c59ef487c
X-WR-CALDESC:
X-WR-RELCALID:71b0f92547f52093d34edc827774dc36
X-WR-TIMEZONE:America/New_York
BEGIN:VTIMEZONE
TZID:America/New_York
BEGIN:STANDARD
TZNAME:EST
DTSTART:20251102T020000
TZOFFSETFROM:-0400
TZOFFSETTO:-0500
RDATE:20261101T020000
END:STANDARD
BEGIN:DAYLIGHT
TZNAME:EDT
DTSTART:20250309T020000
TZOFFSETFROM:-0500
TZOFFSETTO:-0400
RDATE:20260308T020000
RDATE:20270314T020000
END:DAYLIGHT
END:VTIMEZONE
BEGIN:VEVENT
UID:e9572e61-036e-4256-a407-94eac516faa7
DTSTAMP:20260420T023423Z
DESCRIPTION:
DTSTART;TZID=America/New_York:20251217T190000
DTEND;TZID=America/New_York:20251217T200000
LOCATION:https://us06web.zoom.us/webinar/register/WN_NECqVqL9QFuh0-TBCzU-YQ
SUMMARY:Staying Involved After High School
END:VEVENT
END:VCALENDAR
