BEGIN:VCALENDAR
VERSION:2.0
PRODID:-//www.arcnj.org//NONSGML kigkonsult.se iCalcreator 2.30.10//
CALSCALE:GREGORIAN
METHOD:PUBLISH
UID:c8282281-4d3c-47b5-86a1-7da94e98d74d
X-WR-CALDESC:The class will be a gentle\, basic level\, beginner yoga class
 .  We will start seated on the mats with some simple breathing techniques 
 to settle in.  We will move through a series of poses. (seated\, standing\
 , lying down on the back\, etc.)  It will be simple and modifications can 
 be offered as needed.  We will end with a guided relaxation at the end\, w
 ith everyone lying down.\n\nPlease have either a yoga mat (preferred) or s
 omething you can sit and lie comfortably on.\n\nRenee Kroeker is a private
  yoga teacher located in Staten Island\, NY. She has a diverse\nprofession
 al background that weaves together theatre\, social work\, and special edu
 cation. Renee\nis experienced in working with “differently-abled” children
  and adults\, including stroke\nsurvivors\, persons with multiple sclerosi
 s\, individuals on the autism spectrum\, persons with\ndown syndrome\, and
  those recovering from illness or injury. She always brings a sense of cal
 m\nand gentleness into these unique sessions. Renee received her 200 hour 
 yoga teacher from\nBreathe For Change in 2017. She has been a member of th
 e Peaceful Potato team since 2022.
X-WR-RELCALID:adfc004c0f0c5f06e987bb4ac4b42e24
X-WR-TIMEZONE:America/New_York
BEGIN:VTIMEZONE
TZID:America/New_York
BEGIN:STANDARD
TZNAME:EST
DTSTART:20251102T020000
TZOFFSETFROM:-0400
TZOFFSETTO:-0500
RDATE:20261101T020000
END:STANDARD
BEGIN:DAYLIGHT
TZNAME:EDT
DTSTART:20250309T020000
TZOFFSETFROM:-0500
TZOFFSETTO:-0400
RDATE:20260308T020000
RDATE:20270314T020000
END:DAYLIGHT
END:VTIMEZONE
BEGIN:VEVENT
UID:5f1ffd3a-5334-429e-9dec-8f71a975dc94
DTSTAMP:20260420T023542Z
DESCRIPTION:The class will be a gentle\, basic level\, beginner yoga class.
   We will start seated on the mats with some simple breathing techniques t
 o settle in.  We will move through a series of poses. (seated\, standing\,
  lying down on the back\, etc.)  It will be simple and modifications can b
 e offered as needed.  We will end with a guided relaxation at the end\, wi
 th everyone lying down.\n\nPlease have either a yoga mat (preferred) or so
 mething you can sit and lie comfortably on.\n\nRenee Kroeker is a private 
 yoga teacher located in Staten Island\, NY. She has a diverse\nprofessiona
 l background that weaves together theatre\, social work\, and special educ
 ation. Renee\nis experienced in working with “differently-abled” children 
 and adults\, including stroke\nsurvivors\, persons with multiple sclerosis
 \, individuals on the autism spectrum\, persons with\ndown syndrome\, and 
 those recovering from illness or injury. She always brings a sense of calm
 \nand gentleness into these unique sessions. Renee received her 200 hour y
 oga teacher from\nBreathe For Change in 2017. She has been a member of the
  Peaceful Potato team since 2022.
DTSTART;TZID=America/New_York:20251217T110000
DTEND;TZID=America/New_York:20251217T120000
LOCATION:https://us06web.zoom.us/meeting/register/cXb1sKY6Srm-uX5IYBAvrQ#/r
 egistration
SUMMARY:Peaceful Potato Yoga
END:VEVENT
END:VCALENDAR
