BEGIN:VCALENDAR
VERSION:2.0
PRODID:-//www.arcnj.org//NONSGML kigkonsult.se iCalcreator 2.30.10//
CALSCALE:GREGORIAN
METHOD:PUBLISH
UID:25741e89-477c-4ce7-916d-6f0d119ad1b1
X-WR-CALDESC:**This is a recording of a previous webinar. Experience it for
  the first time or rewatch it to gain a better understanding of the topic.
  The question box will be open and we will respond to any questions 24 hou
 rs after the event.\n\nPresented by the NJSAP team\, this webinar will pre
 sent some 'Do It Yourself' (DIY) methods to make amazing gifts for your lo
 ved ones during the holidays! You'll learn how to craft four different uni
 que gifts to give out for your holiday of choice (or even something you mi
 ght want to hold onto yourself.) Homemade gifts can help you save money an
 d make something one-of-a-kind!
X-WR-RELCALID:792e312beecc0e91d1577b23110f922c
X-WR-TIMEZONE:America/New_York
BEGIN:VTIMEZONE
TZID:America/New_York
BEGIN:STANDARD
TZNAME:EST
DTSTART:20251102T020000
TZOFFSETFROM:-0400
TZOFFSETTO:-0500
RDATE:20261101T020000
END:STANDARD
BEGIN:DAYLIGHT
TZNAME:EDT
DTSTART:20250309T020000
TZOFFSETFROM:-0500
TZOFFSETTO:-0400
RDATE:20260308T020000
RDATE:20270314T020000
END:DAYLIGHT
END:VTIMEZONE
BEGIN:VEVENT
UID:f5401d6d-e4ba-49df-9655-cd6d3d08c64a
DTSTAMP:20260420T023300Z
DESCRIPTION:**This is a recording of a previous webinar. Experience it for 
 the first time or rewatch it to gain a better understanding of the topic. 
 The question box will be open and we will respond to any questions 24 hour
 s after the event.\n\nPresented by the NJSAP team\, this webinar will pres
 ent some 'Do It Yourself' (DIY) methods to make amazing gifts for your lov
 ed ones during the holidays! You'll learn how to craft four different uniq
 ue gifts to give out for your holiday of choice (or even something you mig
 ht want to hold onto yourself.) Homemade gifts can help you save money and
  make something one-of-a-kind!
DTSTART;TZID=America/New_York:20251216T140000
DTEND;TZID=America/New_York:20251216T150000
LOCATION:https://us06web.zoom.us/webinar/register/WN_Kpt1jYzhTHuOMDkzaxO07Q
 #/registration
SUMMARY:REPLAY: Handmade Tale: DIY Gift Making Guide
END:VEVENT
END:VCALENDAR
