BEGIN:VCALENDAR
VERSION:2.0
PRODID:-//www.arcnj.org//NONSGML kigkonsult.se iCalcreator 2.30.10//
CALSCALE:GREGORIAN
METHOD:PUBLISH
UID:a73b7653-b37c-4b6d-8bad-e24adf5ef3f3
X-WR-CALDESC:Join us as Margaret Gilbride\, JD\, CT\, the Director of Trans
 ition\, Employment\, Aging & Disability at The Boggs Center on Development
 al Disabilities\, discusses how to support individuals with intellectual a
 nd developmental disabilities (I/DD) throughout the aging process. We will
  explore strategies to enhance accessibility in both home and community se
 ttings\, including day programs\, fitness centers\, and places of worship.
X-WR-RELCALID:3b87b8d1b5c96372430254f2792cbc72
X-WR-TIMEZONE:America/New_York
BEGIN:VTIMEZONE
TZID:America/New_York
BEGIN:STANDARD
TZNAME:EST
DTSTART:20251102T020000
TZOFFSETFROM:-0400
TZOFFSETTO:-0500
RDATE:20261101T020000
END:STANDARD
BEGIN:DAYLIGHT
TZNAME:EDT
DTSTART:20250309T020000
TZOFFSETFROM:-0500
TZOFFSETTO:-0400
RDATE:20260308T020000
RDATE:20270314T020000
END:DAYLIGHT
END:VTIMEZONE
BEGIN:VEVENT
UID:61390180-5925-471c-8b1d-b972ab60738b
DTSTAMP:20260420T023917Z
DESCRIPTION:Join us as Margaret Gilbride\, JD\, CT\, the Director of Transi
 tion\, Employment\, Aging & Disability at The Boggs Center on Developmenta
 l Disabilities\, discusses how to support individuals with intellectual an
 d developmental disabilities (I/DD) throughout the aging process. We will 
 explore strategies to enhance accessibility in both home and community set
 tings\, including day programs\, fitness centers\, and places of worship.
DTSTART;TZID=America/New_York:20251210T120000
DTEND;TZID=America/New_York:20251210T130000
LOCATION:https://bit.ly/agerelatedchanges
SUMMARY:Understanding and Supporting the Age-Related Health Changes in Peop
 le with IDD as They Grow Older
END:VEVENT
END:VCALENDAR
