BEGIN:VCALENDAR
VERSION:2.0
PRODID:-//www.arcnj.org//NONSGML kigkonsult.se iCalcreator 2.30.10//
CALSCALE:GREGORIAN
METHOD:PUBLISH
UID:3e4091e5-5e9a-43be-b836-aa8e84dfa229
X-WR-CALDESC:
X-WR-RELCALID:7bd01ca2790fd52808245eec04f1c4a5
X-WR-TIMEZONE:America/New_York
BEGIN:VTIMEZONE
TZID:America/New_York
BEGIN:STANDARD
TZNAME:EST
DTSTART:20251102T020000
TZOFFSETFROM:-0400
TZOFFSETTO:-0500
RDATE:20261101T020000
END:STANDARD
BEGIN:DAYLIGHT
TZNAME:EDT
DTSTART:20250309T020000
TZOFFSETFROM:-0500
TZOFFSETTO:-0400
RDATE:20260308T020000
RDATE:20270314T020000
END:DAYLIGHT
END:VTIMEZONE
BEGIN:VEVENT
UID:b7226f39-a98d-4b5f-967c-89e6b69b2f7c
DTSTAMP:20260420T023348Z
DESCRIPTION:
DTSTART;TZID=America/New_York:20251210T180000
DTEND;TZID=America/New_York:20251210T193000
LOCATION:https://attendee.gotowebinar.com/register/1325684918998293335
SUMMARY:Empowering Transitions: Post Secondary Options for Students with Di
 sabilities
END:VEVENT
END:VCALENDAR
