BEGIN:VCALENDAR
VERSION:2.0
PRODID:-//www.arcnj.org//NONSGML kigkonsult.se iCalcreator 2.30.10//
CALSCALE:GREGORIAN
METHOD:PUBLISH
UID:34107456-ecea-4df3-b8a1-0f40a8466f99
X-WR-CALDESC:
X-WR-RELCALID:041964b9bf438f3ccd703615fa03a7ad
X-WR-TIMEZONE:America/New_York
BEGIN:VTIMEZONE
TZID:America/New_York
BEGIN:STANDARD
TZNAME:EST
DTSTART:20251102T020000
TZOFFSETFROM:-0400
TZOFFSETTO:-0500
RDATE:20261101T020000
END:STANDARD
BEGIN:DAYLIGHT
TZNAME:EDT
DTSTART:20250309T020000
TZOFFSETFROM:-0500
TZOFFSETTO:-0400
RDATE:20260308T020000
RDATE:20270314T020000
END:DAYLIGHT
END:VTIMEZONE
BEGIN:VEVENT
UID:012efea8-b299-42d7-8302-c28e7bcc05a3
DTSTAMP:20260420T023341Z
DESCRIPTION:
DTSTART;TZID=America/New_York:20251204T180000
DTEND;TZID=America/New_York:20251204T200000
LOCATION:On Zoom
SUMMARY:Executive Committee Meeting
END:VEVENT
END:VCALENDAR
