BEGIN:VCALENDAR
VERSION:2.0
PRODID:-//www.arcnj.org//NONSGML kigkonsult.se iCalcreator 2.30.10//
CALSCALE:GREGORIAN
METHOD:PUBLISH
UID:3350dd63-4fbd-4d23-a23a-3219da3d079f
X-WR-CALDESC:
X-WR-RELCALID:cfd8b78e94cdfc5730426137f8f14310
X-WR-TIMEZONE:America/New_York
BEGIN:VTIMEZONE
TZID:America/New_York
BEGIN:STANDARD
TZNAME:EST
DTSTART:20251102T020000
TZOFFSETFROM:-0400
TZOFFSETTO:-0500
RDATE:20261101T020000
END:STANDARD
BEGIN:DAYLIGHT
TZNAME:EDT
DTSTART:20250309T020000
TZOFFSETFROM:-0500
TZOFFSETTO:-0400
RDATE:20260308T020000
RDATE:20270314T020000
END:DAYLIGHT
END:VTIMEZONE
BEGIN:VEVENT
UID:13ca2122-bf4e-48b5-976e-242e3a82d327
DTSTAMP:20260420T023014Z
DESCRIPTION:
DTSTART;TZID=America/New_York:20251203T180000
DTEND;TZID=America/New_York:20251203T193000
LOCATION:https://attendee.gotowebinar.com/register/4732689922941519446
SUMMARY:Making the Future More Secure
END:VEVENT
END:VCALENDAR
