BEGIN:VCALENDAR
VERSION:2.0
PRODID:-//www.arcnj.org//NONSGML kigkonsult.se iCalcreator 2.30.10//
CALSCALE:GREGORIAN
METHOD:PUBLISH
UID:a3af7c25-d848-4867-a39f-58ad319e4573
X-WR-CALDESC:It’s time to get moving! Combining African and European dance 
 styles\, jazz dance features improvisation. It pairs animated expressions 
 with sharp yet fluid motions\, setting it apart from traditional styles of
  dance. No partner or previous dance experience required. \n\n**Suggested 
 Attire: Comfortable clothing in which you can easily move\n\nhttps://markm
 orrisdancegroup.org\n\nLive viewers will be able to share comments\, ask q
 uestions\, and participate in real time. Please share your video and follo
 w along to make this a true interactive experience!
X-WR-RELCALID:603fa7acf19cbefeb414bd14e206537c
X-WR-TIMEZONE:America/New_York
BEGIN:VTIMEZONE
TZID:America/New_York
BEGIN:STANDARD
TZNAME:EST
DTSTART:20241103T020000
TZOFFSETFROM:-0400
TZOFFSETTO:-0500
RDATE:20251102T020000
RDATE:20261101T020000
END:STANDARD
BEGIN:DAYLIGHT
TZNAME:EDT
DTSTART:20250309T020000
TZOFFSETFROM:-0500
TZOFFSETTO:-0400
RDATE:20260308T020000
RDATE:20270314T020000
END:DAYLIGHT
END:VTIMEZONE
BEGIN:VEVENT
UID:f2d88cb2-5f6a-4ba3-b73f-716640ef9f40
DTSTAMP:20260420T144533Z
DESCRIPTION:It’s time to get moving! Combining African and European dance s
 tyles\, jazz dance features improvisation. It pairs animated expressions w
 ith sharp yet fluid motions\, setting it apart from traditional styles of 
 dance. No partner or previous dance experience required. \n\n**Suggested A
 ttire: Comfortable clothing in which you can easily move\n\nhttps://markmo
 rrisdancegroup.org\n\nLive viewers will be able to share comments\, ask qu
 estions\, and participate in real time. Please share your video and follow
  along to make this a true interactive experience!
DTSTART;TZID=America/New_York:20251029T110000
DTEND;TZID=America/New_York:20251029T120000
LOCATION:https://us06web.zoom.us/meeting/register/0iNvLYFbRiKQ2Xn7v5lguQ#/r
 egistration
SUMMARY:Adaptive Jazz Class
END:VEVENT
END:VCALENDAR
