BEGIN:VCALENDAR
VERSION:2.0
PRODID:-//www.arcnj.org//NONSGML kigkonsult.se iCalcreator 2.30.10//
CALSCALE:GREGORIAN
METHOD:PUBLISH
UID:59a0702e-3af2-4b4d-97c3-288035034767
X-WR-CALDESC:Please  join Adara Heilmann\, Director of Children's Advocacy 
 and Jennifer Harrison\, Director of Planning for Adult Life to discuss dro
 pping the rope! Parenting a teen with disabilities comes with unique chall
 enges\, especially as they approach adulthood. It’s natural to feel the ur
 ge to hold on tightly—but sometimes the greatest support we can offer is l
 earning when and how to drop the rope. This empowering and compassionate w
 ebinar is designed for parents and caregivers who want to guide their teen
 s with disabilities into adulthood with confidence\, grace\, and trust. We
 ’ll explore practical strategies to foster independence\, build self-advoc
 acy\, and redefine your role—not as a controller\, but as a collaborator.
 \n\nThrough real-life stories\, developmental insights\, and expert guidan
 ce\, you'll learn how to:\n-Navigate the emotional shift from protector to
  partner\n-Encourage decision-making and self-expression\n-Prepare for tra
 nsitions in education\, employment\, and independent living\n-Let go witho
 ut giving up\n\nJoin us for this thoughtful conversation on how to lead wi
 th love\, release control with purpose\, and walk beside your teen as they
  step into their own future.
X-WR-RELCALID:daf084a51e8ad21989bb615ef6c40643
X-WR-TIMEZONE:America/New_York
BEGIN:VTIMEZONE
TZID:America/New_York
BEGIN:STANDARD
TZNAME:EST
DTSTART:20241103T020000
TZOFFSETFROM:-0400
TZOFFSETTO:-0500
RDATE:20251102T020000
RDATE:20261101T020000
END:STANDARD
BEGIN:DAYLIGHT
TZNAME:EDT
DTSTART:20250309T020000
TZOFFSETFROM:-0500
TZOFFSETTO:-0400
RDATE:20260308T020000
RDATE:20270314T020000
END:DAYLIGHT
END:VTIMEZONE
BEGIN:VEVENT
UID:d8936dd7-689e-451a-b348-53f2c1d314d9
DTSTAMP:20260420T145139Z
DESCRIPTION:Please  join Adara Heilmann\, Director of Children's Advocacy a
 nd Jennifer Harrison\, Director of Planning for Adult Life to discuss drop
 ping the rope! Parenting a teen with disabilities comes with unique challe
 nges\, especially as they approach adulthood. It’s natural to feel the urg
 e to hold on tightly—but sometimes the greatest support we can offer is le
 arning when and how to drop the rope. This empowering and compassionate we
 binar is designed for parents and caregivers who want to guide their teens
  with disabilities into adulthood with confidence\, grace\, and trust. We’
 ll explore practical strategies to foster independence\, build self-advoca
 cy\, and redefine your role—not as a controller\, but as a collaborator.\n
 \nThrough real-life stories\, developmental insights\, and expert guidance
 \, you'll learn how to:\n-Navigate the emotional shift from protector to p
 artner\n-Encourage decision-making and self-expression\n-Prepare for trans
 itions in education\, employment\, and independent living\n-Let go without
  giving up\n\nJoin us for this thoughtful conversation on how to lead with
  love\, release control with purpose\, and walk beside your teen as they s
 tep into their own future.
DTSTART;TZID=America/New_York:20251008T180000
DTEND;TZID=America/New_York:20251008T193000
LOCATION:https://attendee.gotowebinar.com/register/1405660095315625823
SUMMARY:Dropping the Rope
END:VEVENT
END:VCALENDAR
