BEGIN:VCALENDAR
VERSION:2.0
PRODID:-//www.arcnj.org//NONSGML kigkonsult.se iCalcreator 2.30.10//
CALSCALE:GREGORIAN
METHOD:PUBLISH
UID:e2d59993-f0b8-47eb-832b-284c28b6339b
X-WR-CALDESC:We can't wait for spring and registration is open for the 2nd 
 Annual Rockin' Breakfast Run on Saturday\, May 31st at Duke Island Park. T
 he new twist on our Step Up for The Arc 5K Run & Walk will have the whole 
 community Rockin'!
X-WR-RELCALID:eb6f2bbc26e6e9067e2f4f6b8d6e437f
X-WR-TIMEZONE:America/New_York
BEGIN:VTIMEZONE
TZID:America/New_York
BEGIN:STANDARD
TZNAME:EST
DTSTART:20241103T020000
TZOFFSETFROM:-0400
TZOFFSETTO:-0500
RDATE:20251102T020000
RDATE:20261101T020000
END:STANDARD
BEGIN:DAYLIGHT
TZNAME:EDT
DTSTART:20250309T020000
TZOFFSETFROM:-0500
TZOFFSETTO:-0400
RDATE:20260308T020000
END:DAYLIGHT
END:VTIMEZONE
BEGIN:VEVENT
UID:5f89b095-d365-4fd9-aebf-8e4e779c14a7
DTSTAMP:20260422T035251Z
DESCRIPTION:We can't wait for spring and registration is open for the 2nd A
 nnual Rockin' Breakfast Run on Saturday\, May 31st at Duke Island Park. Th
 e new twist on our Step Up for The Arc 5K Run & Walk will have the whole c
 ommunity Rockin'!
DTSTART;TZID=America/New_York:20250531T060000
DTEND;TZID=America/New_York:20250531T060001
LOCATION:191 Old York Rd\, Bridgewater Township \, NJ 08807 US
SUMMARY:Step Up for The Arc: The Arc Somerset
END:VEVENT
END:VCALENDAR
