BEGIN:VCALENDAR
VERSION:2.0
PRODID:-//www.arcnj.org//NONSGML kigkonsult.se iCalcreator 2.30.10//
CALSCALE:GREGORIAN
METHOD:PUBLISH
UID:172f3bef-d858-401e-a623-4f3a01a50d6c
X-WR-CALDESC:For individuals who face mental health and/or behavioral chall
 enges\, this presentation will include diagnosis and treatment\, best prac
 tices for positive intervention and behavior change\, and a discussion of 
 mental health in relation to physical\, emotional\, and behavioral health.
X-WR-RELCALID:2ad2841e34f1cfe5d7f59e68cb5c4a57
X-WR-TIMEZONE:America/New_York
BEGIN:VTIMEZONE
TZID:America/New_York
BEGIN:STANDARD
TZNAME:EST
DTSTART:20231105T020000
TZOFFSETFROM:-0400
TZOFFSETTO:-0500
RDATE:20241103T020000
RDATE:20251102T020000
END:STANDARD
BEGIN:DAYLIGHT
TZNAME:EDT
DTSTART:20240310T020000
TZOFFSETFROM:-0500
TZOFFSETTO:-0400
RDATE:20250309T020000
END:DAYLIGHT
END:VTIMEZONE
BEGIN:VEVENT
UID:9035c5cb-440a-4bf1-b342-1e1da7408cfc
DTSTAMP:20260422T060304Z
DESCRIPTION:For individuals who face mental health and/or behavioral challe
 nges\, this presentation will include diagnosis and treatment\, best pract
 ices for positive intervention and behavior change\, and a discussion of m
 ental health in relation to physical\, emotional\, and behavioral health.
DTSTART;TZID=America/New_York:20240528T120000
DTEND;TZID=America/New_York:20240528T133000
LOCATION:https://register.gotowebinar.com/register/7710432379905036122
SUMMARY:Health Care Advocacy 2024 Webinar Series - Webinar #3: Co-occurring
  IDD and Mental Health Issue
END:VEVENT
END:VCALENDAR
