BEGIN:VCALENDAR
VERSION:2.0
PRODID:-//www.arcnj.org//NONSGML kigkonsult.se iCalcreator 2.30.10//
CALSCALE:GREGORIAN
METHOD:PUBLISH
UID:77f63107-f03b-4bc9-8e42-c4ed280ce77e
X-WR-CALDESC:Join us for a virtual tour of Transition and Career Studies at
  Georgian Court University. https://georgian.edu/transition-and-career-stu
 dies/
X-WR-RELCALID:cb52bc4b19005cfb8cddc10c663679cb
X-WR-TIMEZONE:America/New_York
BEGIN:VTIMEZONE
TZID:America/New_York
BEGIN:STANDARD
TZNAME:EST
DTSTART:20231105T020000
TZOFFSETFROM:-0400
TZOFFSETTO:-0500
RDATE:20241103T020000
END:STANDARD
BEGIN:DAYLIGHT
TZNAME:EDT
DTSTART:20240310T020000
TZOFFSETFROM:-0500
TZOFFSETTO:-0400
RDATE:20250309T020000
END:DAYLIGHT
END:VTIMEZONE
BEGIN:VEVENT
UID:f9ac7680-8e60-4066-869a-0c3a379f2896
DTSTAMP:20260424T155345Z
DESCRIPTION:Join us for a virtual tour of Transition and Career Studies at 
 Georgian Court University. https://georgian.edu/transition-and-career-stud
 ies/
DTSTART;TZID=America/New_York:20240314T180000
DTEND;TZID=America/New_York:20240314T190000
LOCATION:https://us06web.zoom.us/meeting/register/tZ0uduyvqjgtE9PIvFM_VStwW
 qHf3Bm55C9h#/registration
SUMMARY:Tour with Us! - Georgian Court University: Transition and Career St
 udies
END:VEVENT
END:VCALENDAR
