BEGIN:VCALENDAR
VERSION:2.0
PRODID:-//www.arcnj.org//NONSGML kigkonsult.se iCalcreator 2.30.10//
CALSCALE:GREGORIAN
METHOD:PUBLISH
UID:02af9bc5-bfc4-4abc-96b7-b40c0a595644
X-WR-CALDESC:**This is a recording of a previous webinar. Experience it for
  the first time or rewatch it to gain a better understanding of the topic.
  The question box will be open and we will respond to any questions 24 hou
 rs after the event.\n\n\n\nIn this webinar\, we will learn why an accurate
  diagnosis is so important to mental health treatment\, how trauma impacts
  people with disabilities\, and all about types of treatment for people wi
 th dual-diagnosis (mental health + IDD).\n\n\n\nWendy F. Aita\, Ph.D. is C
 o-Director of the RISN Center and Behavioral Health Lead. She is a Clinica
 l Psychologist who received her Ph.D. from Farleigh Dickinson University a
 nd completed her internship at Friend’s Hospital. She is licensed in New J
 ersey. She joined Rowan twelve years ago and is currently an Assistant Pro
 fessor at RowanSOM with appointments in both Psychiatry and Psychology. Sh
 e has worked with individuals\, and their families\, who are dually-diagno
 sed with intellectual disability and mental health issues for several year
 s and was the Director of MHID for 2 years. She serves on the Rowan Univer
 sity Neurodiversity Task Force\, and she is the Clinical Director for the 
 Strong Minds Program through Special Olympics.\n\n
X-WR-RELCALID:09507d69cb9c51f43f4955b1daf53a35
X-WR-TIMEZONE:America/New_York
BEGIN:VTIMEZONE
TZID:America/New_York
BEGIN:STANDARD
TZNAME:EST
DTSTART:20221106T020000
TZOFFSETFROM:-0400
TZOFFSETTO:-0500
RDATE:20231105T020000
RDATE:20241103T020000
END:STANDARD
BEGIN:DAYLIGHT
TZNAME:EDT
DTSTART:20230312T020000
TZOFFSETFROM:-0500
TZOFFSETTO:-0400
RDATE:20240310T020000
END:DAYLIGHT
END:VTIMEZONE
BEGIN:VEVENT
UID:33e3ac66-b1ea-4d8b-a860-03664dceade1
DTSTAMP:20260424T143517Z
DESCRIPTION:**This is a recording of a previous webinar. Experience it for 
 the first time or rewatch it to gain a better understanding of the topic. 
 The question box will be open and we will respond to any questions 24 hour
 s after the event.\n\n\n\nIn this webinar\, we will learn why an accurate 
 diagnosis is so important to mental health treatment\, how trauma impacts 
 people with disabilities\, and all about types of treatment for people wit
 h dual-diagnosis (mental health + IDD).\n\n\n\nWendy F. Aita\, Ph.D. is Co
 -Director of the RISN Center and Behavioral Health Lead. She is a Clinical
  Psychologist who received her Ph.D. from Farleigh Dickinson University an
 d completed her internship at Friend’s Hospital. She is licensed in New Je
 rsey. She joined Rowan twelve years ago and is currently an Assistant Prof
 essor at RowanSOM with appointments in both Psychiatry and Psychology. She
  has worked with individuals\, and their families\, who are dually-diagnos
 ed with intellectual disability and mental health issues for several years
  and was the Director of MHID for 2 years. She serves on the Rowan Univers
 ity Neurodiversity Task Force\, and she is the Clinical Director for the S
 trong Minds Program through Special Olympics.\n\n
DTSTART;TZID=America/New_York:20230829T140000
DTEND;TZID=America/New_York:20230829T150000
LOCATION:
SUMMARY:REPLAY: Making Mental Healthcare Inclusive: Best Practices and Psyc
 hotherapy Adaptations for Individuals with IDD
END:VEVENT
END:VCALENDAR
