BEGIN:VCALENDAR
VERSION:2.0
PRODID:-//www.arcnj.org//NONSGML kigkonsult.se iCalcreator 2.30.10//
CALSCALE:GREGORIAN
METHOD:PUBLISH
UID:be0ec77d-fb5c-47b2-bff5-74577dc1526d
X-WR-CALDESC:In Governor Murphy's proposed FY 24 State budget\, funding has
  been allocated for implementation of the START Program in New Jersey. Joi
 n us for this webinar where the START Model\, an evidence-informed mental 
 health crisis service for people with IDD\, and outcomes associated with i
 mplementation in various locales will be described.\n\nPLEASE NOTE: We wil
 l not be able to record this session to share with non-attendees. Therefor
 e\, you must register for\, and attend\, the live session on June 20th at 
 noon\, in order to see the presentation.\n\nPresenter: Karen L. Weigle\, P
 hD\, Licensed Psychologist\nAssociate Director/Director of Program Develop
 ment\nNational Center for START Services\nInstitute of Disability\nUnivers
 ity of New Hampshire
X-WR-RELCALID:3dad90039da19d29ce28a068f6012602
X-WR-TIMEZONE:America/New_York
BEGIN:VTIMEZONE
TZID:America/New_York
BEGIN:STANDARD
TZNAME:EST
DTSTART:20221106T020000
TZOFFSETFROM:-0400
TZOFFSETTO:-0500
RDATE:20231105T020000
RDATE:20241103T020000
END:STANDARD
BEGIN:DAYLIGHT
TZNAME:EDT
DTSTART:20230312T020000
TZOFFSETFROM:-0500
TZOFFSETTO:-0400
RDATE:20240310T020000
END:DAYLIGHT
END:VTIMEZONE
BEGIN:VEVENT
UID:f43a6242-ff33-4c86-a1cb-f5530cbb7b2c
DTSTAMP:20260422T234340Z
DESCRIPTION:In Governor Murphy's proposed FY 24 State budget\, funding has 
 been allocated for implementation of the START Program in New Jersey. Join
  us for this webinar where the START Model\, an evidence-informed mental h
 ealth crisis service for people with IDD\, and outcomes associated with im
 plementation in various locales will be described.\n\nPLEASE NOTE: We will
  not be able to record this session to share with non-attendees. Therefore
 \, you must register for\, and attend\, the live session on June 20th at n
 oon\, in order to see the presentation.\n\nPresenter: Karen L. Weigle\, Ph
 D\, Licensed Psychologist\nAssociate Director/Director of Program Developm
 ent\nNational Center for START Services\nInstitute of Disability\nUniversi
 ty of New Hampshire
DTSTART;TZID=America/New_York:20230620T120000
DTEND;TZID=America/New_York:20230620T133000
LOCATION:https://attendee.gotowebinar.com/register/1961420320902544988
SUMMARY:Dual Diagnosis Webinar Series: START Implementation
END:VEVENT
END:VCALENDAR
