BEGIN:VCALENDAR
VERSION:2.0
PRODID:-//www.arcnj.org//NONSGML kigkonsult.se iCalcreator 2.30.10//
CALSCALE:GREGORIAN
METHOD:PUBLISH
UID:728e47ce-3b2f-46c5-9462-074bf25fe069
X-WR-CALDESC:The 23rd Annual Step Up for The Arc Walkathon will take place 
 at Woodlot Park. The goal of the event is to promote community healthy\, t
 eam-building\, wellness\, and raise awareness for people with IDD. The eve
 nt will be a rain or shine. There will be a DJ and fun activities for all 
 ages. Walk registration and complementary breakfast begins at 9 am.
X-WR-RELCALID:fa2ee03bef75ff40ce4bf3747ee4f518
X-WR-TIMEZONE:America/New_York
BEGIN:VTIMEZONE
TZID:America/New_York
BEGIN:STANDARD
TZNAME:EST
DTSTART:20221106T020000
TZOFFSETFROM:-0400
TZOFFSETTO:-0500
RDATE:20231105T020000
END:STANDARD
BEGIN:DAYLIGHT
TZNAME:EDT
DTSTART:20230312T020000
TZOFFSETFROM:-0500
TZOFFSETTO:-0400
RDATE:20240310T020000
END:DAYLIGHT
END:VTIMEZONE
BEGIN:VEVENT
UID:148e0071-0484-4564-8d0d-18845a80d69d
DTSTAMP:20260422T210849Z
DESCRIPTION:The 23rd Annual Step Up for The Arc Walkathon will take place a
 t Woodlot Park. The goal of the event is to promote community healthy\, te
 am-building\, wellness\, and raise awareness for people with IDD. The even
 t will be a rain or shine. There will be a DJ and fun activities for all a
 ges. Walk registration and complementary breakfast begins at 9 am.
DTSTART;TZID=America/New_York:20230429T000000
DTEND;TZID=America/New_York:20230429T235900
LOCATION:
SUMMARY:The Arc of Middlesex County's Walkathon
END:VEVENT
END:VCALENDAR
