BEGIN:VCALENDAR
VERSION:2.0
PRODID:-//www.arcnj.org//NONSGML kigkonsult.se iCalcreator 2.30.10//
CALSCALE:GREGORIAN
METHOD:PUBLISH
UID:7f496682-dc42-438e-aadb-71222fc646fc
X-WR-CALDESC:Your mindset is defined as a set of beliefs that shape how you
  make sense of the world. Your mindset influences how you think\, feel\, a
 nd behave in any given situation. In our mindset talk\, we will begin lear
 ning how to harness the power of positive thinking in order to empower you
  to focus on that which is within your control. Positive thinking is an em
 otional and mental attitude that focuses on the good and expects results t
 hat will benefit you. It is about anticipating happiness\, health\, succes
 s and abundance. It is becoming the master of your emotions and taking res
 ponsibility for your thoughts and actions. Once you empower yourself to ch
 ange what is within your control\, you can have anything that you desire i
 n life. Kristen Bond is a yoga and pilates instructor at IHT (In-Home Trai
 ning LLC).
X-WR-RELCALID:bd18e2174c49c25481fc486f36255a25
X-WR-TIMEZONE:America/New_York
BEGIN:VTIMEZONE
TZID:America/New_York
BEGIN:STANDARD
TZNAME:EST
DTSTART:20221106T020000
TZOFFSETFROM:-0400
TZOFFSETTO:-0500
RDATE:20231105T020000
END:STANDARD
BEGIN:DAYLIGHT
TZNAME:EDT
DTSTART:20230312T020000
TZOFFSETFROM:-0500
TZOFFSETTO:-0400
RDATE:20240310T020000
END:DAYLIGHT
END:VTIMEZONE
BEGIN:VEVENT
UID:d09f6bb1-91d7-46ff-b725-6b4fc0353f7a
DTSTAMP:20260424T220315Z
DESCRIPTION:Your mindset is defined as a set of beliefs that shape how you 
 make sense of the world. Your mindset influences how you think\, feel\, an
 d behave in any given situation. In our mindset talk\, we will begin learn
 ing how to harness the power of positive thinking in order to empower you 
 to focus on that which is within your control. Positive thinking is an emo
 tional and mental attitude that focuses on the good and expects results th
 at will benefit you. It is about anticipating happiness\, health\, success
  and abundance. It is becoming the master of your emotions and taking resp
 onsibility for your thoughts and actions. Once you empower yourself to cha
 nge what is within your control\, you can have anything that you desire in
  life. Kristen Bond is a yoga and pilates instructor at IHT (In-Home Train
 ing LLC).
DTSTART;TZID=America/New_York:20230324T130000
DTEND;TZID=America/New_York:20230324T140000
LOCATION:https://r20.rs6.net/tn.jsp?f=001UvcxFNLipfC5zxBFO3aCCOYRjWda70y3nB
 -n46g26jIIQ2I2zJpo9GtL1vRXVViLKbOF3nnFr3nhllOKf9fWRfc_VirjDT1gCBZANw-EPFyC
 3jb4gKE5URHoBBPQoB9p27oFd9wstoLZcjIOUyzJqqace8ItSFsc2hmxOfKD5t6j5LCX0KYkEu
 gAJMfavun2xA5W4d495FFfC-f2TtOMXefGHnCjQ0RE&c=CT-u7_piyKn66noEzqgmfSnxLAGyY
 6TvPNcqB0YgdEci74XJOIRCMw==&ch=QzXjcTNbYNOu_7o4avNJc1ZbskMkmcC9FEsr6D_091C
 ClH-E5OrDTA==
SUMMARY:Peace of Mind: Maintaining a Healthy Mindset
END:VEVENT
END:VCALENDAR
