BEGIN:VCALENDAR
VERSION:2.0
PRODID:-//www.arcnj.org//NONSGML kigkonsult.se iCalcreator 2.30.10//
CALSCALE:GREGORIAN
METHOD:PUBLISH
UID:7933807f-2524-46bc-944e-ca6261202255
X-WR-CALDESC:Join us every Monday at 10am on Facebook Live for a brief chat
  with Michael Pearson Jr.\, Director of Children's Advocacy at The Arc of 
 New Jersey. Each week\, Michael will discuss a topic related to special ed
 ucation and share helpful tips and resources for families. \nNo registrati
 on is necessary\, just visit our Facebook page every Monday at 10am.
X-WR-RELCALID:a0d6becb7ab97cf83d1b10591207e578
X-WR-TIMEZONE:America/New_York
BEGIN:VTIMEZONE
TZID:America/New_York
BEGIN:STANDARD
TZNAME:EST
DTSTART:20221106T020000
TZOFFSETFROM:-0400
TZOFFSETTO:-0500
RDATE:20231105T020000
END:STANDARD
BEGIN:DAYLIGHT
TZNAME:EDT
DTSTART:20220313T020000
TZOFFSETFROM:-0500
TZOFFSETTO:-0400
RDATE:20230312T020000
RDATE:20240310T020000
END:DAYLIGHT
END:VTIMEZONE
BEGIN:VEVENT
UID:b7043e68-448e-41e7-a02f-963abcba3920
DTSTAMP:20260425T120824Z
DESCRIPTION:Join us every Monday at 10am on Facebook Live for a brief chat 
 with Michael Pearson Jr.\, Director of Children's Advocacy at The Arc of N
 ew Jersey. Each week\, Michael will discuss a topic related to special edu
 cation and share helpful tips and resources for families. \nNo registratio
 n is necessary\, just visit our Facebook page every Monday at 10am.
DTSTART;TZID=America/New_York:20230130T100000
DTEND;TZID=America/New_York:20230130T103000
LOCATION:
SUMMARY:Mondays with Michael: From Referral to IEP: The Timeline for Servic
 es
END:VEVENT
END:VCALENDAR
