BEGIN:VCALENDAR
VERSION:2.0
PRODID:-//www.arcnj.org//NONSGML kigkonsult.se iCalcreator 2.30.10//
CALSCALE:GREGORIAN
METHOD:PUBLISH
UID:6a85d76d-9771-4a9f-9a26-a47f830767da
X-WR-CALDESC:Chat with Jerisa Maseko\, Director of The Planning For Adult L
 ife Program. Jerisa will give us an overview of the program and talk a lit
 tle about how they can help individuals with IDD plan for their future.
X-WR-RELCALID:5d6a75b22b3bbab8e4f2c0306ad6446d
X-WR-TIMEZONE:America/New_York
BEGIN:VTIMEZONE
TZID:America/New_York
BEGIN:STANDARD
TZNAME:EST
DTSTART:20221106T020000
TZOFFSETFROM:-0400
TZOFFSETTO:-0500
RDATE:20231105T020000
END:STANDARD
BEGIN:DAYLIGHT
TZNAME:EDT
DTSTART:20220313T020000
TZOFFSETFROM:-0500
TZOFFSETTO:-0400
RDATE:20230312T020000
RDATE:20240310T020000
END:DAYLIGHT
END:VTIMEZONE
BEGIN:VEVENT
UID:e44ac909-dd9e-4fe7-950d-42b64496b772
DTSTAMP:20260422T161940Z
DESCRIPTION:Chat with Jerisa Maseko\, Director of The Planning For Adult Li
 fe Program. Jerisa will give us an overview of the program and talk a litt
 le about how they can help individuals with IDD plan for their future.
DTSTART;TZID=America/New_York:20230112T180000
DTEND;TZID=America/New_York:20230112T190000
LOCATION:
SUMMARY:FI Fireside Chat with Jerisa Maseko from Planning for Adult Life
END:VEVENT
END:VCALENDAR
