BEGIN:VCALENDAR
VERSION:2.0
PRODID:-//www.arcnj.org//NONSGML kigkonsult.se iCalcreator 2.30.10//
CALSCALE:GREGORIAN
METHOD:PUBLISH
UID:b6f9c688-8065-4d07-937d-d954ec1a2ccc
X-WR-CALDESC:Matt Locascio returns for another fitness session! This event 
 will explore ways to stay in shape at home. Matt will be focusing on body 
 weight exercises.\n\n'My goal of the training sessions are to help people 
 understand that they can improve their quality of life by focusing on over
 all wellness. Physical well-being is an excellent starting point towards l
 iving a healthier lifestyle.'\n\nMatt is the owner of IHT (In-Home Trainin
 g LLC). Matt has been working with North Jersey residents in exercise pres
 cription and fitness training for over 10 years!\nLive viewers will be abl
 e to share comments\, ask questions\, and participate in real time. Please
  share your video and follow along to make this a true interactive experie
 nce!\n\nThis event is intended for adults with intellectual and developmen
 tal disabilities. The New Jersey Self-Advocacy Project reserves the right 
 to take and use photographs\, video\, and electronic images of attendees a
 t its agency-sponsored events for promotional and educational purposes. By
  registering\, you consent to having your photo taken for promotional purp
 oses
X-WR-RELCALID:bd90eec9d8f2c6f79663f06efeb4f0cc
X-WR-TIMEZONE:America/New_York
BEGIN:VTIMEZONE
TZID:America/New_York
BEGIN:STANDARD
TZNAME:EST
DTSTART:20221106T020000
TZOFFSETFROM:-0400
TZOFFSETTO:-0500
RDATE:20231105T020000
END:STANDARD
BEGIN:DAYLIGHT
TZNAME:EDT
DTSTART:20220313T020000
TZOFFSETFROM:-0500
TZOFFSETTO:-0400
RDATE:20230312T020000
RDATE:20240310T020000
END:DAYLIGHT
END:VTIMEZONE
BEGIN:VEVENT
UID:31452ff4-8bd6-4619-a40c-003c70213aff
DTSTAMP:20260425T155913Z
DESCRIPTION:Matt Locascio returns for another fitness session! This event w
 ill explore ways to stay in shape at home. Matt will be focusing on body w
 eight exercises.\n\n'My goal of the training sessions are to help people u
 nderstand that they can improve their quality of life by focusing on overa
 ll wellness. Physical well-being is an excellent starting point towards li
 ving a healthier lifestyle.'\n\nMatt is the owner of IHT (In-Home Training
  LLC). Matt has been working with North Jersey residents in exercise presc
 ription and fitness training for over 10 years!\nLive viewers will be able
  to share comments\, ask questions\, and participate in real time. Please 
 share your video and follow along to make this a true interactive experien
 ce!\n\nThis event is intended for adults with intellectual and development
 al disabilities. The New Jersey Self-Advocacy Project reserves the right t
 o take and use photographs\, video\, and electronic images of attendees at
  its agency-sponsored events for promotional and educational purposes. By 
 registering\, you consent to having your photo taken for promotional purpo
 ses
DTSTART;TZID=America/New_York:20230106T130000
DTEND;TZID=America/New_York:20230106T140000
LOCATION:
SUMMARY:The Right Fit: Find Your Exercise with ﻿Adaptive Fitness
END:VEVENT
END:VCALENDAR
