BEGIN:VCALENDAR
VERSION:2.0
PRODID:-//www.arcnj.org//NONSGML kigkonsult.se iCalcreator 2.30.10//
CALSCALE:GREGORIAN
METHOD:PUBLISH
UID:3494dd22-881e-4858-bff9-cb5478e21241
X-WR-CALDESC:Join us every Monday at 10am on Facebook Live for a brief chat
  with Michael Pearson Jr.\, Director of Children's Advocacy at The Arc of 
 New Jersey. Each week\, Michael will discuss a topic related to special ed
 ucation and share helpful tips and resources for families. \nNo registrati
 on is necessary\, just visit our Facebook page every Monday at 10am.
X-WR-RELCALID:7e8d6292bdcc3069dd86c0a2c64d10f6
X-WR-TIMEZONE:America/New_York
BEGIN:VTIMEZONE
TZID:America/New_York
BEGIN:STANDARD
TZNAME:EST
DTSTART:20221106T020000
TZOFFSETFROM:-0400
TZOFFSETTO:-0500
RDATE:20231105T020000
END:STANDARD
BEGIN:DAYLIGHT
TZNAME:EDT
DTSTART:20220313T020000
TZOFFSETFROM:-0500
TZOFFSETTO:-0400
RDATE:20230312T020000
RDATE:20240310T020000
END:DAYLIGHT
END:VTIMEZONE
BEGIN:VEVENT
UID:05bf8a66-4d12-4669-90de-09851fd57c71
DTSTAMP:20260424T062649Z
DESCRIPTION:Join us every Monday at 10am on Facebook Live for a brief chat 
 with Michael Pearson Jr.\, Director of Children's Advocacy at The Arc of N
 ew Jersey. Each week\, Michael will discuss a topic related to special edu
 cation and share helpful tips and resources for families. \nNo registratio
 n is necessary\, just visit our Facebook page every Monday at 10am.
DTSTART;TZID=America/New_York:20230102T100000
DTEND;TZID=America/New_York:20230102T103000
LOCATION:
SUMMARY:Mondays with Michael:  From Early Intervention to Preschool
END:VEVENT
END:VCALENDAR
