BEGIN:VCALENDAR
VERSION:2.0
PRODID:-//www.arcnj.org//NONSGML kigkonsult.se iCalcreator 2.30.10//
CALSCALE:GREGORIAN
METHOD:PUBLISH
UID:fc9a23fc-67c7-4af4-b84d-e3b262fd249f
X-WR-CALDESC:Our guest presenter for this event is Kristen Bond\, a yoga in
 structor. Her 'All Level Yoga Flow' class is for beginners as well as thos
 e familiar with yoga. Each posture is taught with precise alignment cues a
 nd each movement is linked to a corresponding breath. The language and pra
 ctice are simplified to empower any level yoga student to move confidently
  through the flow.\n\nKristen is a yoga and pilates instructor at IHT (In-
 Home Training LLC). Find out more here: http://ihtnj.com.\n\nLive viewers 
 will be able to share comments\, ask questions\, and participate in real t
 ime. Please share your video and follow along to make this a true interact
 ive experience!\n\nThis event is intended for adults with intellectual and
  developmental disabilities. The New Jersey Self-Advocacy Project reserves
  the right to take and use photographs\, video\, and electronic images of 
 attendees at its agency-sponsored events for promotional and educational p
 urposes. By registering\, you consent to having your photo taken for promo
 tional purposes.
X-WR-RELCALID:61f51ec34196ac4b5779f791a338c3f1
X-WR-TIMEZONE:America/New_York
BEGIN:VTIMEZONE
TZID:America/New_York
BEGIN:STANDARD
TZNAME:EST
DTSTART:20221106T020000
TZOFFSETFROM:-0400
TZOFFSETTO:-0500
RDATE:20231105T020000
END:STANDARD
BEGIN:DAYLIGHT
TZNAME:EDT
DTSTART:20220313T020000
TZOFFSETFROM:-0500
TZOFFSETTO:-0400
RDATE:20230312T020000
RDATE:20240310T020000
END:DAYLIGHT
END:VTIMEZONE
BEGIN:VEVENT
UID:0f19ea6a-928b-4050-abe6-3e56e947e49e
DTSTAMP:20260421T184802Z
DESCRIPTION:Our guest presenter for this event is Kristen Bond\, a yoga ins
 tructor. Her 'All Level Yoga Flow' class is for beginners as well as those
  familiar with yoga. Each posture is taught with precise alignment cues an
 d each movement is linked to a corresponding breath. The language and prac
 tice are simplified to empower any level yoga student to move confidently 
 through the flow.\n\nKristen is a yoga and pilates instructor at IHT (In-H
 ome Training LLC). Find out more here: http://ihtnj.com.\n\nLive viewers w
 ill be able to share comments\, ask questions\, and participate in real ti
 me. Please share your video and follow along to make this a true interacti
 ve experience!\n\nThis event is intended for adults with intellectual and 
 developmental disabilities. The New Jersey Self-Advocacy Project reserves 
 the right to take and use photographs\, video\, and electronic images of a
 ttendees at its agency-sponsored events for promotional and educational pu
 rposes. By registering\, you consent to having your photo taken for promot
 ional purposes.
DTSTART;TZID=America/New_York:20221202T130000
DTEND;TZID=America/New_York:20221202T140000
LOCATION:
SUMMARY:Strike a Pose: Yoga Class
END:VEVENT
END:VCALENDAR
