BEGIN:VCALENDAR
VERSION:2.0
PRODID:-//www.arcnj.org//NONSGML kigkonsult.se iCalcreator 2.30.10//
CALSCALE:GREGORIAN
METHOD:PUBLISH
UID:dcbfd4ad-7628-448a-8fcb-cf1b435ef04c
X-WR-CALDESC:Join us as we chat with Susan Freedman\, Unit Coordinator of S
 pecial Child Health Services (SCHS) in Hunterdon County. Susan will give u
 s an overview of SCHS and discuss how the Case Management Unit can help fa
 milies navigate the system of care.\n\n** You will receive a Zoom link a f
 ew days before the event.
X-WR-RELCALID:d8e77a0e718fc54942eaae964392b4e2
X-WR-TIMEZONE:America/New_York
BEGIN:VTIMEZONE
TZID:America/New_York
BEGIN:STANDARD
TZNAME:EST
DTSTART:20211107T020000
TZOFFSETFROM:-0400
TZOFFSETTO:-0500
RDATE:20221106T020000
RDATE:20231105T020000
END:STANDARD
BEGIN:DAYLIGHT
TZNAME:EDT
DTSTART:20220313T020000
TZOFFSETFROM:-0500
TZOFFSETTO:-0400
RDATE:20230312T020000
RDATE:20240310T020000
END:DAYLIGHT
END:VTIMEZONE
BEGIN:VEVENT
UID:009cafa3-1a1d-4035-9388-99d2ba16e5ba
DTSTAMP:20260425T110741Z
DESCRIPTION:Join us as we chat with Susan Freedman\, Unit Coordinator of Sp
 ecial Child Health Services (SCHS) in Hunterdon County. Susan will give us
  an overview of SCHS and discuss how the Case Management Unit can help fam
 ilies navigate the system of care.\n\n** You will receive a Zoom link a fe
 w days before the event.
DTSTART;TZID=America/New_York:20221025T180000
DTEND;TZID=America/New_York:20221025T190000
LOCATION:
SUMMARY:FI Fireside Chat with Susan Freedman from Special Child Health Serv
 ices
END:VEVENT
END:VCALENDAR
