BEGIN:VCALENDAR
VERSION:2.0
PRODID:-//www.arcnj.org//NONSGML kigkonsult.se iCalcreator 2.30.10//
CALSCALE:GREGORIAN
METHOD:PUBLISH
UID:f5dba03c-84cb-4da1-9da8-6da15d34ce14
X-WR-CALDESC:10:30am early lunch and 12:00pm shotgun 5PM cocktail and dinne
 r until 7PM
X-WR-RELCALID:c0dc48f20c3e5d6ca32cea0d320c8231
X-WR-TIMEZONE:America/New_York
BEGIN:VTIMEZONE
TZID:America/New_York
BEGIN:STANDARD
TZNAME:EST
DTSTART:20211107T020000
TZOFFSETFROM:-0400
TZOFFSETTO:-0500
RDATE:20221106T020000
RDATE:20231105T020000
END:STANDARD
BEGIN:DAYLIGHT
TZNAME:EDT
DTSTART:20220313T020000
TZOFFSETFROM:-0500
TZOFFSETTO:-0400
RDATE:20230312T020000
RDATE:20240310T020000
END:DAYLIGHT
END:VTIMEZONE
BEGIN:VEVENT
UID:6959c1c3-da95-4309-9ec6-8dfab918897e
DTSTAMP:20260422T023937Z
DESCRIPTION:10:30am early lunch and 12:00pm shotgun 5PM cocktail and dinner
  until 7PM
DTSTART;TZID=America/New_York:20220912T103000
DTEND;TZID=America/New_York:20220912T193000
LOCATION:
SUMMARY:The Arc of Somerset: 5th Annual Clubs for Cabins Golf Outing and Di
 nner Event for Camp Jotini Capital Campaign
END:VEVENT
END:VCALENDAR
