BEGIN:VCALENDAR
VERSION:2.0
PRODID:-//www.arcnj.org//NONSGML kigkonsult.se iCalcreator 2.30.10//
CALSCALE:GREGORIAN
METHOD:PUBLISH
UID:615f93dc-7e27-41ea-aede-5bd07861443d
X-WR-CALDESC:
X-WR-RELCALID:7793f5bb3f0e35fd2d59386b6a13d967
X-WR-TIMEZONE:America/New_York
BEGIN:VTIMEZONE
TZID:America/New_York
BEGIN:STANDARD
TZNAME:EST
DTSTART:20211107T020000
TZOFFSETFROM:-0400
TZOFFSETTO:-0500
RDATE:20221106T020000
RDATE:20231105T020000
END:STANDARD
BEGIN:DAYLIGHT
TZNAME:EDT
DTSTART:20220313T020000
TZOFFSETFROM:-0500
TZOFFSETTO:-0400
RDATE:20230312T020000
END:DAYLIGHT
END:VTIMEZONE
BEGIN:VEVENT
UID:2880df7c-dc6e-4bc8-8c9c-2308b9867258
DTSTAMP:20260424T185631Z
DESCRIPTION:
DTSTART;TZID=America/New_York:20220522T000000
DTEND;TZID=America/New_York:20220522T235900
LOCATION:
SUMMARY:SCARC's Gordon Shelton Memorial Walkathon
END:VEVENT
END:VCALENDAR
