BEGIN:VCALENDAR
VERSION:2.0
PRODID:-//www.arcnj.org//NONSGML kigkonsult.se iCalcreator 2.30.10//
CALSCALE:GREGORIAN
METHOD:PUBLISH
UID:b0041349-1df0-4619-a618-fbc4233d84fb
X-WR-CALDESC:Donald T. Brown is a Registered Representative and Investment 
 Adviser Representative of Equity Services\, Inc. (ESI) and offers securiti
 es in the following states: AZ\, CO\, FL\, MA\, NJ\, NY\, OH\, and PA.\nIn
  this one-of-a-kind experience\, Don will lead participants through a step
 -by-step journey designed to preserve government benefits\, protect financ
 ial assets\, and focus on quality of life and a lifetime of care for indiv
 iduals with special needs. Don strives to make making financial topics fun
  and interesting. He has the unparalleled ability to energize a crowd\, ma
 ke people laugh\, and solve complex financial problems using easy-to-under
 stand ideas and stories. He finds simplicity is the key to inspiring famil
 ies to take action in this important process.
X-WR-RELCALID:a262b8fcd435cc9be5832b265f8f9235
X-WR-TIMEZONE:America/New_York
BEGIN:VTIMEZONE
TZID:America/New_York
BEGIN:STANDARD
TZNAME:EST
DTSTART:20201101T020000
TZOFFSETFROM:-0400
TZOFFSETTO:-0500
RDATE:20211107T020000
RDATE:20221106T020000
END:STANDARD
BEGIN:DAYLIGHT
TZNAME:EDT
DTSTART:20210314T020000
TZOFFSETFROM:-0500
TZOFFSETTO:-0400
RDATE:20220313T020000
RDATE:20230312T020000
END:DAYLIGHT
END:VTIMEZONE
BEGIN:VEVENT
UID:6391a80b-d28a-40c4-8945-2349b3e28935
DTSTAMP:20260423T072518Z
DESCRIPTION:Donald T. Brown is a Registered Representative and Investment A
 dviser Representative of Equity Services\, Inc. (ESI) and offers securitie
 s in the following states: AZ\, CO\, FL\, MA\, NJ\, NY\, OH\, and PA.\nIn 
 this one-of-a-kind experience\, Don will lead participants through a step-
 by-step journey designed to preserve government benefits\, protect financi
 al assets\, and focus on quality of life and a lifetime of care for indivi
 duals with special needs. Don strives to make making financial topics fun 
 and interesting. He has the unparalleled ability to energize a crowd\, mak
 e people laugh\, and solve complex financial problems using easy-to-unders
 tand ideas and stories. He finds simplicity is the key to inspiring famili
 es to take action in this important process.
DTSTART;TZID=America/New_York:20211020T130000
DTEND;TZID=America/New_York:20211020T140000
LOCATION:
SUMMARY:Webinar: Making the Future More Secure for Your Loved One with Spec
 ial Needs
END:VEVENT
END:VCALENDAR
