BEGIN:VCALENDAR
VERSION:2.0
PRODID:-//www.arcnj.org//NONSGML kigkonsult.se iCalcreator 2.30.10//
CALSCALE:GREGORIAN
METHOD:PUBLISH
UID:f198fafe-1d49-4cfe-83d0-13cf07ea33dd
X-WR-CALDESC:
X-WR-RELCALID:ceaf702d3fbb00b393a20d88c5e2a9a9
X-WR-TIMEZONE:America/New_York
BEGIN:VTIMEZONE
TZID:America/New_York
BEGIN:STANDARD
TZNAME:EST
DTSTART:20201101T020000
TZOFFSETFROM:-0400
TZOFFSETTO:-0500
RDATE:20211107T020000
RDATE:20221106T020000
END:STANDARD
BEGIN:DAYLIGHT
TZNAME:EDT
DTSTART:20210314T020000
TZOFFSETFROM:-0500
TZOFFSETTO:-0400
RDATE:20220313T020000
RDATE:20230312T020000
END:DAYLIGHT
END:VTIMEZONE
BEGIN:VEVENT
UID:43bed6f3-df21-40a7-a70f-6f940e87ec7c
DTSTAMP:20260420T172059Z
DESCRIPTION:
DTSTART;TZID=America/New_York:20211015T190000
DTEND;TZID=America/New_York:20211015T220000
LOCATION:
SUMMARY:Arc Angel Awards Reception (The Arc of Somerset)
END:VEVENT
END:VCALENDAR
