BEGIN:VCALENDAR
VERSION:2.0
PRODID:-//www.arcnj.org//NONSGML kigkonsult.se iCalcreator 2.30.10//
CALSCALE:GREGORIAN
METHOD:PUBLISH
UID:810dc1dd-43ce-4e72-8cc6-ba234f0db782
X-WR-CALDESC:The Arc’s National Convention is an unmatched opportunity to c
 onnect and learn with advocates\, professionals\, people with intellectual
  and developmental disabilities\, and their families. If you are intereste
 d in employment\, education\, advocacy\, housing\, criminal justice\, and 
 more – our sessions are sure to challenge\, inspire\, and motivate!
X-WR-RELCALID:76c46fb03c05120aa08eb4bf8a5edec7
X-WR-TIMEZONE:America/New_York
BEGIN:VTIMEZONE
TZID:America/New_York
BEGIN:STANDARD
TZNAME:EST
DTSTART:20201101T020000
TZOFFSETFROM:-0400
TZOFFSETTO:-0500
RDATE:20211107T020000
RDATE:20221106T020000
END:STANDARD
BEGIN:DAYLIGHT
TZNAME:EDT
DTSTART:20210314T020000
TZOFFSETFROM:-0500
TZOFFSETTO:-0400
RDATE:20220313T020000
RDATE:20230312T020000
END:DAYLIGHT
END:VTIMEZONE
BEGIN:VEVENT
UID:6360ad62-b204-436a-95cf-c76bd74573fd
DTSTAMP:20260425T002415Z
DESCRIPTION:The Arc’s National Convention is an unmatched opportunity to co
 nnect and learn with advocates\, professionals\, people with intellectual 
 and developmental disabilities\, and their families. If you are interested
  in employment\, education\, advocacy\, housing\, criminal justice\, and m
 ore – our sessions are sure to challenge\, inspire\, and motivate!
DTSTART;TZID=America/New_York:20210927T000000
DTEND;TZID=America/New_York:20210929T235900
LOCATION:
SUMMARY:The Arc US 2021 National Convention
END:VEVENT
END:VCALENDAR
