BEGIN:VCALENDAR
VERSION:2.0
PRODID:-//www.arcnj.org//NONSGML kigkonsult.se iCalcreator 2.30.10//
CALSCALE:GREGORIAN
METHOD:PUBLISH
UID:84f33d3e-15b7-4047-9c24-61f2ff1b92b5
X-WR-CALDESC:Our guest presenter for this event is Kristen Bond\, a yoga in
 structor. Her 'All Level Yoga Flow' class is for beginners as well as thos
 e familiar with yoga. Each posture is taught with precise alignment cues a
 nd each movement is linked to a corresponding breath. The language and pra
 ctice are simplified to empower any level yoga student to move confidently
  through the flow.\n\nKristen is a yoga and pilates instructor at IHT (In-
 Home Training LLC). Find out more here: http://ihtnj.com.
X-WR-RELCALID:2aa694f3246864449e25b09b352cf4d2
X-WR-TIMEZONE:America/New_York
BEGIN:VTIMEZONE
TZID:America/New_York
BEGIN:STANDARD
TZNAME:EST
DTSTART:20201101T020000
TZOFFSETFROM:-0400
TZOFFSETTO:-0500
RDATE:20211107T020000
RDATE:20221106T020000
END:STANDARD
BEGIN:DAYLIGHT
TZNAME:EDT
DTSTART:20210314T020000
TZOFFSETFROM:-0500
TZOFFSETTO:-0400
RDATE:20220313T020000
RDATE:20230312T020000
END:DAYLIGHT
END:VTIMEZONE
BEGIN:VEVENT
UID:27674b8d-0b97-4d3e-8cae-f256ec8c266e
DTSTAMP:20260424T144936Z
DESCRIPTION:Our guest presenter for this event is Kristen Bond\, a yoga ins
 tructor. Her 'All Level Yoga Flow' class is for beginners as well as those
  familiar with yoga. Each posture is taught with precise alignment cues an
 d each movement is linked to a corresponding breath. The language and prac
 tice are simplified to empower any level yoga student to move confidently 
 through the flow.\n\nKristen is a yoga and pilates instructor at IHT (In-H
 ome Training LLC). Find out more here: http://ihtnj.com.
DTSTART;TZID=America/New_York:20210924T130000
DTEND;TZID=America/New_York:20210924T140000
LOCATION:
SUMMARY:Strike A Pose: Virtual Yoga Class
END:VEVENT
END:VCALENDAR
