BEGIN:VCALENDAR
VERSION:2.0
PRODID:-//www.arcnj.org//NONSGML kigkonsult.se iCalcreator 2.30.10//
CALSCALE:GREGORIAN
METHOD:PUBLISH
UID:54e07045-f330-4440-b9f5-aca42343df83
X-WR-CALDESC:**This is a recording of a previous webinar. Experience it for
  the first time or rewatch it to gain a better understanding of the topic.
  The question box will be open and we will respond to any questions 24 hou
 rs after the event.\n\nPresentation and appearance are an important part o
 f employment. Dress\, overall hygiene\, and reminders to keep yourself loo
 king fresh will be discussed. \nThe webinar includes examples of real life
  situations you might encounter as well as a discussion on how people with
  visible and/or invisible disabilities are viewed by others in the workpla
 ce and community.\n\nThis webinar is presented by Ashley Ritchey\, MSW\, L
 SW and Director of NJSAP\, and Jessica Lax\, MSW\, LSW\, Adult Transition 
 Facilitator with CEA and Self-Advocate.
X-WR-RELCALID:3306c968b823e77f8eddc91ecdd05c95
X-WR-TIMEZONE:America/New_York
BEGIN:VTIMEZONE
TZID:America/New_York
BEGIN:STANDARD
TZNAME:EST
DTSTART:20201101T020000
TZOFFSETFROM:-0400
TZOFFSETTO:-0500
RDATE:20211107T020000
RDATE:20221106T020000
END:STANDARD
BEGIN:DAYLIGHT
TZNAME:EDT
DTSTART:20210314T020000
TZOFFSETFROM:-0500
TZOFFSETTO:-0400
RDATE:20220313T020000
END:DAYLIGHT
END:VTIMEZONE
BEGIN:VEVENT
UID:f9a494be-d9e0-4944-ae63-0736afe672d1
DTSTAMP:20260421T094524Z
DESCRIPTION:**This is a recording of a previous webinar. Experience it for 
 the first time or rewatch it to gain a better understanding of the topic. 
 The question box will be open and we will respond to any questions 24 hour
 s after the event.\n\nPresentation and appearance are an important part of
  employment. Dress\, overall hygiene\, and reminders to keep yourself look
 ing fresh will be discussed. \nThe webinar includes examples of real life 
 situations you might encounter as well as a discussion on how people with 
 visible and/or invisible disabilities are viewed by others in the workplac
 e and community.\n\nThis webinar is presented by Ashley Ritchey\, MSW\, LS
 W and Director of NJSAP\, and Jessica Lax\, MSW\, LSW\, Adult Transition F
 acilitator with CEA and Self-Advocate.
DTSTART;TZID=America/New_York:20210810T140000
DTEND;TZID=America/New_York:20210810T150000
LOCATION:
SUMMARY:REPLAY: Model Employee: Perfect Your Personal & Professional Look
END:VEVENT
END:VCALENDAR
