BEGIN:VCALENDAR
VERSION:2.0
PRODID:-//www.arcnj.org//NONSGML kigkonsult.se iCalcreator 2.30.10//
CALSCALE:GREGORIAN
METHOD:PUBLISH
UID:3ff14ecb-7f47-4030-8da3-fe9f1d070057
X-WR-CALDESC:Registration includes access to all material and virtual vendo
 r hall admission
X-WR-RELCALID:6a4dc0212f2d1570f42f0a0513bfb083
X-WR-TIMEZONE:America/New_York
BEGIN:VTIMEZONE
TZID:America/New_York
BEGIN:STANDARD
TZNAME:EST
DTSTART:20201101T020000
TZOFFSETFROM:-0400
TZOFFSETTO:-0500
RDATE:20211107T020000
RDATE:20221106T020000
END:STANDARD
BEGIN:DAYLIGHT
TZNAME:EDT
DTSTART:20210314T020000
TZOFFSETFROM:-0500
TZOFFSETTO:-0400
RDATE:20220313T020000
END:DAYLIGHT
END:VTIMEZONE
BEGIN:VEVENT
UID:7854c123-8e81-49a7-91a4-d9c7473525e4
DTSTAMP:20260421T032304Z
DESCRIPTION:Registration includes access to all material and virtual vendor
  hall admission
DTSTART;TZID=America/New_York:20210610T090000
DTEND;TZID=America/New_York:20210611T090000
LOCATION:
SUMMARY:31st Annual Conference on Medical Care for People with IDD - Contri
 butor & Exhibitor Registration
END:VEVENT
END:VCALENDAR
