BEGIN:VCALENDAR
VERSION:2.0
PRODID:-//www.arcnj.org//NONSGML kigkonsult.se iCalcreator 2.30.10//
CALSCALE:GREGORIAN
METHOD:PUBLISH
UID:1d4cb88d-01b0-4882-b39d-48e3fe83f27a
X-WR-CALDESC:Guest presenter Veronica Ramirez of Vero Pure Green discusses 
 how to improve a healthy brain through diet\, including topics such as bra
 in food\, foods to fuel our brain\, primary foods\, secondary foods\, smal
 l steps to protect our brain\, and aging and the future. She will also be 
 giving a simple recipe at the end to improve Brain Health.
X-WR-RELCALID:a5fb3e4e0ec5e7e21740b8c75fe45f1b
X-WR-TIMEZONE:America/New_York
BEGIN:VTIMEZONE
TZID:America/New_York
BEGIN:STANDARD
TZNAME:EST
DTSTART:20201101T020000
TZOFFSETFROM:-0400
TZOFFSETTO:-0500
RDATE:20211107T020000
END:STANDARD
BEGIN:DAYLIGHT
TZNAME:EDT
DTSTART:20210314T020000
TZOFFSETFROM:-0500
TZOFFSETTO:-0400
RDATE:20220313T020000
END:DAYLIGHT
END:VTIMEZONE
BEGIN:VEVENT
UID:722e3dd8-8ccf-4b29-af6f-7568f702e9b1
DTSTAMP:20260421T080809Z
DESCRIPTION:Guest presenter Veronica Ramirez of Vero Pure Green discusses h
 ow to improve a healthy brain through diet\, including topics such as brai
 n food\, foods to fuel our brain\, primary foods\, secondary foods\, small
  steps to protect our brain\, and aging and the future. She will also be g
 iving a simple recipe at the end to improve Brain Health.
DTSTART;TZID=America/New_York:20210330T140000
DTEND;TZID=America/New_York:20210330T150000
LOCATION:
SUMMARY:Webinar: Brain Health and Nutrition
END:VEVENT
END:VCALENDAR
