BEGIN:VCALENDAR
VERSION:2.0
PRODID:-//www.arcnj.org//NONSGML kigkonsult.se iCalcreator 2.30.10//
CALSCALE:GREGORIAN
METHOD:PUBLISH
UID:b3d84ca3-e119-4cd0-b64a-07ef3d8c33ad
X-WR-CALDESC:Presented by Ashley Ritchey\, this webinar discusses ways of l
 owering your carbon footprint to help the environment. A carbon footprint 
 is the total amount of greenhouse gases (including carbon dioxide and meth
 ane) that are generated by our actions. Viewers will learn how this affect
 s the environment and climate\, and how your personal choices can make an 
 impact. Tips on how to make small changes to your lifestyle\, including re
 ducing waste as well as reusing and recycling materials\, will be shared.
X-WR-RELCALID:3b0f8bd6e5028b2c1df27fe9df3bd42d
X-WR-TIMEZONE:America/New_York
BEGIN:VTIMEZONE
TZID:America/New_York
BEGIN:STANDARD
TZNAME:EST
DTSTART:20191103T020000
TZOFFSETFROM:-0400
TZOFFSETTO:-0500
RDATE:20201101T020000
RDATE:20211107T020000
END:STANDARD
BEGIN:DAYLIGHT
TZNAME:EDT
DTSTART:20200308T020000
TZOFFSETFROM:-0500
TZOFFSETTO:-0400
RDATE:20210314T020000
RDATE:20220313T020000
END:DAYLIGHT
END:VTIMEZONE
BEGIN:VEVENT
UID:6d4915a9-2b22-4e14-8b24-94ddaa1f1841
DTSTAMP:20260422T083337Z
DESCRIPTION:Presented by Ashley Ritchey\, this webinar discusses ways of lo
 wering your carbon footprint to help the environment. A carbon footprint i
 s the total amount of greenhouse gases (including carbon dioxide and metha
 ne) that are generated by our actions. Viewers will learn how this affects
  the environment and climate\, and how your personal choices can make an i
 mpact. Tips on how to make small changes to your lifestyle\, including red
 ucing waste as well as reusing and recycling materials\, will be shared.
DTSTART;TZID=America/New_York:20200929T140000
DTEND;TZID=America/New_York:20200929T150000
LOCATION:
SUMMARY:Downsizing: How to Lower Your ﻿Carbon Footprint
END:VEVENT
END:VCALENDAR
