BEGIN:VCALENDAR
VERSION:2.0
PRODID:-//www.arcnj.org//NONSGML kigkonsult.se iCalcreator 2.30.10//
CALSCALE:GREGORIAN
METHOD:PUBLISH
UID:4636a0db-e8bb-44ef-afc2-b7a5c762bda4
X-WR-CALDESC:Join us in celebrating Direct Support Professional Recognition
  Week! This webinar will include pre-recorded interviews with DSPs and sel
 f-advocates on best practices in providing person-centered\, holistic supp
 orts to people with I/DD. Viewers will learn what makes a great DSP and ho
 w they build and maintain healthy bonds and boundaries with the people the
 y support.
X-WR-RELCALID:ca361ebdd5642c5692a4ae8e90a0b808
X-WR-TIMEZONE:America/New_York
BEGIN:VTIMEZONE
TZID:America/New_York
BEGIN:STANDARD
TZNAME:EST
DTSTART:20191103T020000
TZOFFSETFROM:-0400
TZOFFSETTO:-0500
RDATE:20201101T020000
RDATE:20211107T020000
END:STANDARD
BEGIN:DAYLIGHT
TZNAME:EDT
DTSTART:20200308T020000
TZOFFSETFROM:-0500
TZOFFSETTO:-0400
RDATE:20210314T020000
RDATE:20220313T020000
END:DAYLIGHT
END:VTIMEZONE
BEGIN:VEVENT
UID:cb55b7a6-7acf-41b1-8d0e-dfec0d009ce5
DTSTAMP:20260421T171618Z
DESCRIPTION:Join us in celebrating Direct Support Professional Recognition 
 Week! This webinar will include pre-recorded interviews with DSPs and self
 -advocates on best practices in providing person-centered\, holistic suppo
 rts to people with I/DD. Viewers will learn what makes a great DSP and how
  they build and maintain healthy bonds and boundaries with the people they
  support.
DTSTART;TZID=America/New_York:20200915T140000
DTEND;TZID=America/New_York:20200915T150000
LOCATION:
SUMMARY:You and Me\, the DSP: A Conversation with DSPs & the People They Su
 pport
END:VEVENT
END:VCALENDAR
