BEGIN:VCALENDAR
VERSION:2.0
PRODID:-//www.arcnj.org//NONSGML kigkonsult.se iCalcreator 2.30.10//
CALSCALE:GREGORIAN
METHOD:PUBLISH
UID:b5f619c6-1597-4497-a34f-c16bfdce2520
X-WR-CALDESC:The Planning for Adult Life Program hosts FREE Parent Forums a
 nd Opportunity Expos throughout the state. These events include workshops 
 on a wide-range of topics\, including: support coordination\, the continuu
 m of community services\, financial planning\, eligibility requirements\, 
 and where to find help. The Opportunity Expo features a variety of exhibit
 ors that will include state and county government entities\, community ser
 vice providers\, service coordinators\, local health care support\, recrea
 tion providers\, and information & referral services. Families will be exp
 osed to resources and supports in their area\, and will have the chance to
  interview potential service providers to hire.
X-WR-RELCALID:ea54d4d4993de49d6b53f248f59857cd
X-WR-TIMEZONE:America/New_York
BEGIN:VTIMEZONE
TZID:America/New_York
BEGIN:STANDARD
TZNAME:EST
DTSTART:20181104T020000
TZOFFSETFROM:-0400
TZOFFSETTO:-0500
RDATE:20191103T020000
RDATE:20201101T020000
END:STANDARD
BEGIN:DAYLIGHT
TZNAME:EDT
DTSTART:20190310T020000
TZOFFSETFROM:-0500
TZOFFSETTO:-0400
RDATE:20200308T020000
RDATE:20210314T020000
END:DAYLIGHT
END:VTIMEZONE
BEGIN:VEVENT
UID:723eb4d3-2868-4997-a0af-757eb384ed47
DTSTAMP:20260424T191440Z
DESCRIPTION:The Planning for Adult Life Program hosts FREE Parent Forums an
 d Opportunity Expos throughout the state. These events include workshops o
 n a wide-range of topics\, including: support coordination\, the continuum
  of community services\, financial planning\, eligibility requirements\, a
 nd where to find help. The Opportunity Expo features a variety of exhibito
 rs that will include state and county government entities\, community serv
 ice providers\, service coordinators\, local health care support\, recreat
 ion providers\, and information & referral services. Families will be expo
 sed to resources and supports in their area\, and will have the chance to 
 interview potential service providers to hire.
DTSTART;TZID=America/New_York:20191026T090000
DTEND;TZID=America/New_York:20191026T130000
LOCATION:New Road School of Somerset\, 2200 Cottontail Ln\, Somerset\, NJ 0
 8873
SUMMARY:OPPORTUNITY EXPO - SOMERSET
END:VEVENT
END:VCALENDAR
