BEGIN:VCALENDAR
VERSION:2.0
PRODID:-//www.arcnj.org//NONSGML kigkonsult.se iCalcreator 2.30.10//
CALSCALE:GREGORIAN
METHOD:PUBLISH
UID:7e775a37-e224-492e-b2ac-e6394cf69f76
X-WR-CALDESC:Centers for Independent Living\, many of them funded through t
 he Division of Vocational Rehabilitation Services\, in the Department of L
 abor & Workforce Development\, are community-based\, consumer-driven organ
 izations that provide information and referral\, peer counseling\, skills 
 training\, advocacy and a variety of services based on individual needs.\n
 \nOur presenter\, Luke Koppish\, the Deputy  Director for the Alliance Cen
 ter for Independence will provide information on how these services connec
 t individuals with disabilities to the community and the supports offered 
 along the path to their future.
X-WR-RELCALID:0c6653417a7ccae83b94ee7b1ab0f2bb
X-WR-TIMEZONE:America/New_York
BEGIN:VTIMEZONE
TZID:America/New_York
BEGIN:STANDARD
TZNAME:EST
DTSTART:20171105T020000
TZOFFSETFROM:-0400
TZOFFSETTO:-0500
RDATE:20181104T020000
RDATE:20191103T020000
END:STANDARD
BEGIN:DAYLIGHT
TZNAME:EDT
DTSTART:20180311T020000
TZOFFSETFROM:-0500
TZOFFSETTO:-0400
RDATE:20190310T020000
END:DAYLIGHT
END:VTIMEZONE
BEGIN:VEVENT
UID:343d072d-1b2c-4c93-a1c8-e387eb44764a
DTSTAMP:20260421T085422Z
DESCRIPTION:Centers for Independent Living\, many of them funded through th
 e Division of Vocational Rehabilitation Services\, in the Department of La
 bor & Workforce Development\, are community-based\, consumer-driven organi
 zations that provide information and referral\, peer counseling\, skills t
 raining\, advocacy and a variety of services based on individual needs.\n
 \nOur presenter\, Luke Koppish\, the Deputy  Director for the Alliance Cen
 ter for Independence will provide information on how these services connec
 t individuals with disabilities to the community and the supports offered 
 along the path to their future.
DTSTART;TZID=America/New_York:20180523T180000
DTEND;TZID=America/New_York:20180523T190000
LOCATION:
SUMMARY:Webinar: Centers for Independent Living and How They Help Connect I
 ndividuals to Services and Supports
END:VEVENT
END:VCALENDAR
