BEGIN:VCALENDAR
VERSION:2.0
PRODID:-//www.arcnj.org//NONSGML kigkonsult.se iCalcreator 2.30.10//
CALSCALE:GREGORIAN
METHOD:PUBLISH
UID:860292e2-37a7-4aab-b9b4-d38a9cdb8b07
X-WR-CALDESC:People with I/DD may experience trauma at any time in their li
 fe\, as a single event or over many years.   Mistakes can be made when we 
 don't fully understand how trauma may be playing a large part in someone's
  life decisions and choices.  Phillip Caruso\, LPC\, Clinical Supervisor\,
  Northern Region\, Trinitas Regional Medical Center\, Crisis Assessment Re
 sponse and Enhanced Services (CARES)\, will  discuss what trauma is\, how 
 to understand it and how to effectively address the needs of a person with
  I/DD who has experienced trauma in their life.
X-WR-RELCALID:c48d5fda54b9043145f5f99ac561c776
X-WR-TIMEZONE:America/New_York
BEGIN:VTIMEZONE
TZID:America/New_York
BEGIN:STANDARD
TZNAME:EST
DTSTART:20171105T020000
TZOFFSETFROM:-0400
TZOFFSETTO:-0500
RDATE:20181104T020000
END:STANDARD
BEGIN:DAYLIGHT
TZNAME:EDT
DTSTART:20180311T020000
TZOFFSETFROM:-0500
TZOFFSETTO:-0400
RDATE:20190310T020000
END:DAYLIGHT
END:VTIMEZONE
BEGIN:VEVENT
UID:cbab2385-ef4b-4e8c-a652-20edb5858a1a
DTSTAMP:20260420T210702Z
DESCRIPTION:People with I/DD may experience trauma at any time in their lif
 e\, as a single event or over many years.   Mistakes can be made when we d
 on't fully understand how trauma may be playing a large part in someone's 
 life decisions and choices.  Phillip Caruso\, LPC\, Clinical Supervisor\, 
 Northern Region\, Trinitas Regional Medical Center\, Crisis Assessment Res
 ponse and Enhanced Services (CARES)\, will  discuss what trauma is\, how t
 o understand it and how to effectively address the needs of a person with 
 I/DD who has experienced trauma in their life.
DTSTART;TZID=America/New_York:20180426T130000
DTEND;TZID=America/New_York:20180426T140000
LOCATION:
SUMMARY:Trauma Informed Care: Understanding Sources of and Treatment for Pe
 ople with Intellectual and Developmental Disabilities
END:VEVENT
END:VCALENDAR
